BEGIN:VCALENDAR
VERSION:2.0
PRODID:-//Adderbury Golf Society - ECPv6.15.20//NONSGML v1.0//EN
CALSCALE:GREGORIAN
METHOD:PUBLISH
X-WR-CALNAME:Adderbury Golf Society
X-ORIGINAL-URL:https://adderburygolf.org
X-WR-CALDESC:Events for Adderbury Golf Society
REFRESH-INTERVAL;VALUE=DURATION:PT1H
X-Robots-Tag:noindex
X-PUBLISHED-TTL:PT1H
BEGIN:VTIMEZONE
TZID:Europe/London
BEGIN:DAYLIGHT
TZOFFSETFROM:+0000
TZOFFSETTO:+0100
TZNAME:BST
DTSTART:20180325T010000
END:DAYLIGHT
BEGIN:STANDARD
TZOFFSETFROM:+0100
TZOFFSETTO:+0000
TZNAME:GMT
DTSTART:20181028T010000
END:STANDARD
BEGIN:DAYLIGHT
TZOFFSETFROM:+0000
TZOFFSETTO:+0100
TZNAME:BST
DTSTART:20190331T010000
END:DAYLIGHT
BEGIN:STANDARD
TZOFFSETFROM:+0100
TZOFFSETTO:+0000
TZNAME:GMT
DTSTART:20191027T010000
END:STANDARD
BEGIN:DAYLIGHT
TZOFFSETFROM:+0000
TZOFFSETTO:+0100
TZNAME:BST
DTSTART:20200329T010000
END:DAYLIGHT
BEGIN:STANDARD
TZOFFSETFROM:+0100
TZOFFSETTO:+0000
TZNAME:GMT
DTSTART:20201025T010000
END:STANDARD
BEGIN:DAYLIGHT
TZOFFSETFROM:+0000
TZOFFSETTO:+0100
TZNAME:BST
DTSTART:20210328T010000
END:DAYLIGHT
BEGIN:STANDARD
TZOFFSETFROM:+0100
TZOFFSETTO:+0000
TZNAME:GMT
DTSTART:20211031T010000
END:STANDARD
BEGIN:DAYLIGHT
TZOFFSETFROM:+0000
TZOFFSETTO:+0100
TZNAME:BST
DTSTART:20220327T010000
END:DAYLIGHT
BEGIN:STANDARD
TZOFFSETFROM:+0100
TZOFFSETTO:+0000
TZNAME:GMT
DTSTART:20221030T010000
END:STANDARD
BEGIN:DAYLIGHT
TZOFFSETFROM:+0000
TZOFFSETTO:+0100
TZNAME:BST
DTSTART:20230326T010000
END:DAYLIGHT
BEGIN:STANDARD
TZOFFSETFROM:+0100
TZOFFSETTO:+0000
TZNAME:GMT
DTSTART:20231029T010000
END:STANDARD
END:VTIMEZONE
BEGIN:VEVENT
DTSTART;VALUE=DATE:20221001
DTEND;VALUE=DATE:20221002
DTSTAMP:20260420T112418
CREATED:20220919T124625Z
LAST-MODIFIED:20220919T125502Z
UID:12901-1664582400-1664668799@adderburygolf.org
SUMMARY:G&L Trophy
DESCRIPTION:Last AGS fixture of the 2022 season is the G & L Trophy on Saturday 1st October @ Silverstone GC meet at 10.00am for a full English Breakfast\, Coffee/Tea and the draw.\n18 holes Stableford\, 1st tee @ 11.00am followed by the prize presentations after.\nNo meal included after golf.\nCost will be £38pp (Guests welcome £43pp) this will include the sweep\, 2s pot and prizes.\nEntry Y/N by this Thursday 22nd and Sunday 25th last payments!!\nA Big Thank you to John for sponsoring this event!!
URL:https://adderburygolf.org/event/gl-trophy-2022/
LOCATION:Silverstone Golf Club\, Dadford Road\, Buckinghamshire\, MK18 5LH\, United Kingdom
CATEGORIES:Golf Fixtures
ATTACH;FMTTYPE=image/jpeg:https://adderburygolf.org/wp-content/uploads/2022/09/silverstone_gc.jpg
END:VEVENT
BEGIN:VEVENT
DTSTART;VALUE=DATE:20220806
DTEND;VALUE=DATE:20220807
DTSTAMP:20260420T112418
CREATED:20220727T202006Z
LAST-MODIFIED:20220727T202320Z
UID:12894-1659744000-1659830399@adderburygolf.org
SUMMARY:Credik Classic
DESCRIPTION:For 2022 we’ll be playing the Credik Classic at Stratford Park Golf Club (formally known as Ingon Manor). \nCoffee\, tea & bacon rolls from 11 am with the first group teeing off at 12.08 pm.   \n18 holes Stableford competition\, followed by a 2-course meal and presentation. \nGuests welcome (£60)
URL:https://adderburygolf.org/event/credik-classic-3/
LOCATION:Stratford Park Hotel & Golf Club\, Ingon Lane\, Snitterfield\, Stratford upon Avon\, Warwickshire\, CV37 0QE\, United Kingdom
CATEGORIES:Golf Fixtures
ATTACH;FMTTYPE=image/jpeg:https://adderburygolf.org/wp-content/uploads/2022/07/the-stratford-park-hotel.jpg
END:VEVENT
BEGIN:VEVENT
DTSTART;VALUE=DATE:20220715
DTEND;VALUE=DATE:20220716
DTSTAMP:20260420T112418
CREATED:20220714T135046Z
LAST-MODIFIED:20220714T135243Z
UID:12866-1657843200-1657929599@adderburygolf.org
SUMMARY:Members Day
DESCRIPTION:
URL:https://adderburygolf.org/event/members-day-8/
LOCATION:Marlborough Golf Club\, Marlborough Golf Club The Common Marlborough\, Wiltshire\, SN8 1DU
CATEGORIES:Golf Fixtures
ATTACH;FMTTYPE=image/jpeg:https://adderburygolf.org/wp-content/uploads/2022/07/marlborough.jpg
END:VEVENT
BEGIN:VEVENT
DTSTART;VALUE=DATE:20220430
DTEND;VALUE=DATE:20220501
DTSTAMP:20260420T112418
CREATED:20220116T104016Z
LAST-MODIFIED:20220116T104016Z
UID:12860-1651276800-1651363199@adderburygolf.org
SUMMARY:The Masters
DESCRIPTION:The 2022 Masters competition will be held at the historic Princes Golf Club in Sandwich.  The first tee is at 12pm.
URL:https://adderburygolf.org/event/the-masters-2022/
CATEGORIES:Golf Fixtures,weekend Away
ATTACH;FMTTYPE=image/jpeg:https://adderburygolf.org/wp-content/uploads/2022/01/Princes-golf-club.jpg
END:VEVENT
BEGIN:VEVENT
DTSTART;VALUE=DATE:20220429
DTEND;VALUE=DATE:20220430
DTSTAMP:20260420T112418
CREATED:20220116T103537Z
LAST-MODIFIED:20220116T103537Z
UID:12858-1651190400-1651276799@adderburygolf.org
SUMMARY:Penbruce Trophy
DESCRIPTION:Penbruce Trophy at Broom Park. Details to follow. First tee @ 10.30am.
URL:https://adderburygolf.org/event/penbruce-trophy-3/
LOCATION:Broom Park Golf Club\, Broome Park Hotel\, Canterbury Road\, Canterbury\, Kent\, CT4 6QX\, United Kingdom
CATEGORIES:Golf Fixtures,weekend Away
ATTACH;FMTTYPE=image/webp:https://adderburygolf.org/wp-content/uploads/2020/01/broom-park.webp
END:VEVENT
BEGIN:VEVENT
DTSTART;VALUE=DATE:20220428
DTEND;VALUE=DATE:20220429
DTSTAMP:20260420T112418
CREATED:20220116T101212Z
LAST-MODIFIED:20220116T103255Z
UID:12845-1651104000-1651190399@adderburygolf.org
SUMMARY:Memorial Cup
DESCRIPTION:The first destination for our weekend away is Birchwood Park where we’ll hold a team event.  1st tee @10.30am.
URL:https://adderburygolf.org/event/memorial-cup-2022/
LOCATION:Broom Park Golf Club\, Broome Park Hotel\, Canterbury Road\, Canterbury\, Kent\, CT4 6QX\, United Kingdom
CATEGORIES:Golf Fixtures,weekend Away
ATTACH;FMTTYPE=image/jpeg:https://adderburygolf.org/wp-content/uploads/2022/01/birchwood-park.jpg
END:VEVENT
BEGIN:VEVENT
DTSTART;VALUE=DATE:20220402
DTEND;VALUE=DATE:20220403
DTSTAMP:20260420T112418
CREATED:20220116T095837Z
LAST-MODIFIED:20220324T193908Z
UID:12837-1648857600-1648943999@adderburygolf.org
SUMMARY:Colin George Memorial
DESCRIPTION:Situated between Wallingford and Didcot\, Haddon Hill has wonderful views over the North Wessex Downs and South Oxfordshire.  Our second fixture of the season has a first tee time of 11am. \n  \nArrive at 10am for coffee and bacon rolls.  We have a roast dinner after the golf. \nEntry and payment deadline for this event is Sunday 20th March.
URL:https://adderburygolf.org/event/colin-george-memorial-2022/
LOCATION:Haddon Hill\, Wallingford Rd\, Ditcot\, OX11 9BJ\, United Kingdom
CATEGORIES:Golf Fixtures
ATTACH;FMTTYPE=image/jpeg:https://adderburygolf.org/wp-content/uploads/2022/01/Haddon_Hill.jpg
END:VEVENT
BEGIN:VEVENT
DTSTART;VALUE=DATE:20220305
DTEND;VALUE=DATE:20220306
DTSTAMP:20260420T112418
CREATED:20220114T195440Z
LAST-MODIFIED:20220116T100725Z
UID:12832-1646438400-1646524799@adderburygolf.org
SUMMARY:Coach & Horses Shield
DESCRIPTION:The first fixture of the 2022 season will be at the fantastic Forest of Arden Golf Course. \nLocated in the heart of the Midlands\, the Forest of Arden is set in 10\,000 acres of Warwickshire parkland and ancient woodland and is recognised as one of the premier golf destinations in the UK with two fantastic 18-hole golf courses offering unparalleled opportunities for golfers of all abilities. Play amongst the Black Fallow wild deer that freely roam on this unique golf course and setting. \nWe’ll be playing the main Championship Arden Course – a real treat for our first outing this year! \nEntry and payment by 6th February.
URL:https://adderburygolf.org/event/forest-of-arden/
LOCATION:Forest of Arden\, Maxstoke Ln\, Meriden\,\, Coventry\, CV7 7HR\, United Kingdom
CATEGORIES:Golf Fixtures
ATTACH;FMTTYPE=image/jpeg:https://adderburygolf.org/wp-content/uploads/2022/01/Golfshake_-_Forest_of_Arden_New_2_c1alqb.jpg
END:VEVENT
BEGIN:VEVENT
DTSTART;TZID=Europe/London:20211106T100000
DTEND;TZID=Europe/London:20211106T100000
DTSTAMP:20260420T112418
CREATED:20211020T202418Z
LAST-MODIFIED:20211025T083211Z
UID:12789-1636192800-1636192800@adderburygolf.org
SUMMARY:G&L Cup
DESCRIPTION:The final fixture of the year will be at the Bicester Hotel & Spa. It’s worth noting that the course there is due for major works in the near future\, so maybe last chance we get to play the full 18 holes (Read about proposed changes here) \nMeet at 9.45/10 am for a lovely full English breakfast.  1st tee time is scheduled for 11.03 am for 18 holes Stableford competition.  Drinks and prize giving afterwards.  No food is organised for after the round but is available for purchase at the venue or we can arrange to meet up back in Adderbury afterwards.  This might be nice\, especially as it’s the last fixture of the season. \nGuests welcome at £40 per person. \nPayment & entry by next Sunday 31st October latest.
URL:https://adderburygolf.org/event/gl-cup-2021/
LOCATION:Bicester Golf Club\, Bicester\, Oxfordshire\, OX26 1TE\, United Kingdom
CATEGORIES:Golf Fixtures
ATTACH;FMTTYPE=image/jpeg:https://adderburygolf.org/wp-content/uploads/2015/02/bicester-golf-club.jpg
END:VEVENT
BEGIN:VEVENT
DTSTART;TZID=Europe/London:20211023T100000
DTEND;TZID=Europe/London:20211023T100000
DTSTAMP:20260420T112418
CREATED:20211018T201341Z
LAST-MODIFIED:20211021T090730Z
UID:12755-1634983200-1634983200@adderburygolf.org
SUMMARY:Credik Classic
DESCRIPTION:Hot on the heels of the Chepstow trip\, here are the details for the penultimate AGS fixture of 2021 the Credik Classic at the Welcombe\, Stratford on Saturday 23rd October.\nCoffee\,Tea & Bacon Roll from 10.00am\, 1st tee @ 11.00am\, 18 holes\, stableford competition followed by 2 course meal & presentation £45pp\nGuests welcome £50pp to include the sweep\,2s etc\nPayment & entry by next Sunday 17th October latest.
URL:https://adderburygolf.org/event/credik-classic-2021/
LOCATION:The Welcombe Golf Club\, The Welcombe Hotel\, Stratford Upon Avon\, Warwickshire\, CV37 0NR\, United Kingdom
CATEGORIES:Golf Fixtures
ATTACH;FMTTYPE=image/jpeg:https://adderburygolf.org/wp-content/uploads/2021/10/600x450_welcombe-golf-course.jpg
END:VEVENT
BEGIN:VEVENT
DTSTART;VALUE=DATE:20210731
DTEND;VALUE=DATE:20210801
DTSTAMP:20260420T112418
CREATED:20210720T173328Z
LAST-MODIFIED:20210720T174550Z
UID:12745-1627689600-1627775999@adderburygolf.org
SUMMARY:The Fairways & Furlongs Challenge
DESCRIPTION:Bacon rolls + Tea / Coffee on arrival.  1st tee 9.30am \n  \n18 holes stableford\, 2 course meal & presentation \n  \n£55 members\, £60 guests \n  \nThanks for Ben & Chris for sponsoring this event!
URL:https://adderburygolf.org/event/the-fairways-furlongs-challenge/
LOCATION:Puckrup Hall Golf Club\, Puckrup Lane\, Tewkesbury\, GL20 6EL\, United Kingdom
CATEGORIES:Golf Fixtures
ATTACH;FMTTYPE=image/jpeg:https://adderburygolf.org/wp-content/uploads/2021/07/hilton-puckrup-hall-hotel-golf-country-club-1.jpg
END:VEVENT
BEGIN:VEVENT
DTSTART;VALUE=DATE:20210702
DTEND;VALUE=DATE:20210703
DTSTAMP:20260420T112418
CREATED:20210521T172052Z
LAST-MODIFIED:20210521T172052Z
UID:12731-1625184000-1625270399@adderburygolf.org
SUMMARY:Members Day
DESCRIPTION:
URL:https://adderburygolf.org/event/members-day-7/
LOCATION:Northampton Golf Club\, Harlestone\, Northampton\, Northamptonshire\, NN7 4EF\, United Kingdom
ATTACH;FMTTYPE=image/jpeg:https://adderburygolf.org/wp-content/uploads/2021/05/northampton_gc.jpg
END:VEVENT
BEGIN:VEVENT
DTSTART;VALUE=DATE:20210612
DTEND;VALUE=DATE:20210613
DTSTAMP:20260420T112418
CREATED:20210521T171546Z
LAST-MODIFIED:20210521T171546Z
UID:12727-1623456000-1623542399@adderburygolf.org
SUMMARY:Coach & Horses Shield
DESCRIPTION:
URL:https://adderburygolf.org/event/coach-horses-shield-6/
LOCATION:Waterstock Golf Club\, Thame Road\, Waterstock\, Oxford\, Oxfordshire\, OX33 1HT\, United Kingdom
ATTACH;FMTTYPE=image/jpeg:https://adderburygolf.org/wp-content/uploads/2021/05/waterstock_golf_club.jpg
END:VEVENT
BEGIN:VEVENT
DTSTART;VALUE=DATE:20210522
DTEND;VALUE=DATE:20210523
DTSTAMP:20260420T112418
CREATED:20210513T123748Z
LAST-MODIFIED:20210513T123914Z
UID:12722-1621641600-1621727999@adderburygolf.org
SUMMARY:Bentley Classic
DESCRIPTION:Join us for our first fixture of the year – The Bentley Classic sponsored by Harry Matthews. \nCoffee\, tea\, bacon rolls on arrival.  18 holes Stableford\, 1st tee @ 1pm. \nCost for members is £45\, guests welcome for £50pp.
URL:https://adderburygolf.org/event/bentley-classic-2021/
LOCATION:North Oxford Golf Club\, Banbury Rd\, Oxford OX2 8EZ\, Oxford\, Oxfordshire\, OX2 8EZ\, United Kingdom
CATEGORIES:Golf Fixtures
ATTACH;FMTTYPE=image/jpeg:https://adderburygolf.org/wp-content/uploads/2017/02/cherwell_edge_golf_club.jpg
END:VEVENT
BEGIN:VEVENT
DTSTART;VALUE=DATE:20201010
DTEND;VALUE=DATE:20201011
DTSTAMP:20260420T112418
CREATED:20200922T194157Z
LAST-MODIFIED:20200922T194634Z
UID:12710-1602288000-1602374399@adderburygolf.org
SUMMARY:Memorial Cup Team Event
DESCRIPTION:Details to follow – see WhatsApp from Wally
URL:https://adderburygolf.org/event/memorial-cup-team-event-2/
LOCATION:Farthingstone Golf Club\, Everdon Road\, Farthingstone nr Towcester\, Northampton\, NN12 8HA
CATEGORIES:Golf Fixtures
ATTACH;FMTTYPE=image/jpeg:https://adderburygolf.org/wp-content/uploads/2020/01/farthingstone.jpg
END:VEVENT
BEGIN:VEVENT
DTSTART;VALUE=DATE:20200919
DTEND;VALUE=DATE:20200920
DTSTAMP:20260420T112418
CREATED:20200127T211015Z
LAST-MODIFIED:20200127T211015Z
UID:12612-1600473600-1600559999@adderburygolf.org
SUMMARY:Hardy Hughes
DESCRIPTION:
URL:https://adderburygolf.org/event/hardy-hughes-6/
LOCATION:Badgemore Park Golf Club
CATEGORIES:Golf Fixtures
END:VEVENT
BEGIN:VEVENT
DTSTART;VALUE=DATE:20200829
DTEND;VALUE=DATE:20200830
DTSTAMP:20260420T112418
CREATED:20200127T210849Z
LAST-MODIFIED:20200806T194842Z
UID:12610-1598659200-1598745599@adderburygolf.org
SUMMARY:Fairways & Furlongs
DESCRIPTION:
URL:https://adderburygolf.org/event/fairways-furlongs/
LOCATION:Stonebridge Golf Club\, Somers Road\, Meriden\, Coventry\,\, West Midlands\, CV7 7PL\, United Kingdom
CATEGORIES:Golf Fixtures
ATTACH;FMTTYPE=image/jpeg:https://adderburygolf.org/wp-content/uploads/2015/02/stonebridge_golf_club1.jpg
END:VEVENT
BEGIN:VEVENT
DTSTART;TZID=Europe/London:20200815T120000
DTEND;TZID=Europe/London:20200815T170000
DTSTAMP:20260420T112418
CREATED:20200806T184929Z
LAST-MODIFIED:20200806T184929Z
UID:12698-1597492800-1597510800@adderburygolf.org
SUMMARY:Bentley Classic
DESCRIPTION:
URL:https://adderburygolf.org/event/bentley-classic-2/
LOCATION:Cherwell Edge Golf Club
CATEGORIES:Golf Fixtures
ATTACH;FMTTYPE=image/jpeg:https://adderburygolf.org/wp-content/uploads/2017/02/cherwell_edge_golf_club.jpg
END:VEVENT
BEGIN:VEVENT
DTSTART;VALUE=DATE:20200711
DTEND;VALUE=DATE:20200712
DTSTAMP:20260420T112418
CREATED:20200127T210726Z
LAST-MODIFIED:20200806T194422Z
UID:12607-1594425600-1594511999@adderburygolf.org
SUMMARY:Members Day
DESCRIPTION:
URL:https://adderburygolf.org/event/members-day-6/
LOCATION:Aspley Guise Golf Club
CATEGORIES:Golf Fixtures
END:VEVENT
BEGIN:VEVENT
DTSTART;VALUE=DATE:20200627
DTEND;VALUE=DATE:20200628
DTSTAMP:20260420T112418
CREATED:20200127T210549Z
LAST-MODIFIED:20200127T210549Z
UID:12604-1593216000-1593302399@adderburygolf.org
SUMMARY:Bentley Classic
DESCRIPTION:
URL:https://adderburygolf.org/event/bentley-classic/
LOCATION:Cherwell Edge Golf Club
CATEGORIES:Golf Fixtures
END:VEVENT
BEGIN:VEVENT
DTSTART;VALUE=DATE:20200606
DTEND;VALUE=DATE:20200607
DTSTAMP:20260420T112418
CREATED:20200127T210416Z
LAST-MODIFIED:20200127T210416Z
UID:12601-1591401600-1591487999@adderburygolf.org
SUMMARY:Colin George Memorial and G&L Trophy
DESCRIPTION:
URL:https://adderburygolf.org/event/colin-george-memorial-and-gl-trophy-2/
LOCATION:Cleeve Cloud Golf Club
CATEGORIES:Golf Fixtures
END:VEVENT
BEGIN:VEVENT
DTSTART;VALUE=DATE:20200502
DTEND;VALUE=DATE:20200503
DTSTAMP:20260420T112418
CREATED:20200127T210202Z
LAST-MODIFIED:20200209T221505Z
UID:12598-1588377600-1588463999@adderburygolf.org
SUMMARY:Gordon Wright Masters
DESCRIPTION:Arrive at 11am for breakfast roll\, tea & coffee \nFirst tee time: 12pm
URL:https://adderburygolf.org/event/gordon-wright-masters-3/
LOCATION:The Prince’s Golf Club\, Sandwich Bay\, Sandwich\, Kent\, CT13 9QB\, United Kingdom
CATEGORIES:Golf Fixtures,weekend Away
ATTACH;FMTTYPE=image/jpeg:https://adderburygolf.org/wp-content/uploads/2020/01/Princes-Golf-Club.jpg
END:VEVENT
BEGIN:VEVENT
DTSTART;VALUE=DATE:20200501
DTEND;VALUE=DATE:20200502
DTSTAMP:20260420T112418
CREATED:20200127T205900Z
LAST-MODIFIED:20200209T155628Z
UID:12595-1588291200-1588377599@adderburygolf.org
SUMMARY:Penbruce Trophy
DESCRIPTION:
URL:https://adderburygolf.org/event/penbruce-trophy-2/
LOCATION:Broom Park Golf Club\, Broome Park Hotel\, Canterbury Road\, Canterbury\, Kent\, CT4 6QX\, United Kingdom
CATEGORIES:Golf Fixtures,weekend Away
ATTACH;FMTTYPE=image/jpeg:https://adderburygolf.org/wp-content/uploads/2020/01/Broom-Park-Golf-Club.jpg
END:VEVENT
BEGIN:VEVENT
DTSTART;VALUE=DATE:20200430
DTEND;VALUE=DATE:20200501
DTSTAMP:20260420T112418
CREATED:20200127T205725Z
LAST-MODIFIED:20200209T155408Z
UID:12592-1588204800-1588291199@adderburygolf.org
SUMMARY:Memorial Cup Team Event
DESCRIPTION:
URL:https://adderburygolf.org/event/memorial-cup-team-event/
LOCATION:Dartford Golf Club
CATEGORIES:Golf Fixtures,weekend Away
ATTACH;FMTTYPE=image/jpeg:https://adderburygolf.org/wp-content/uploads/2020/01/Dartford_Golf_Club.jpg
END:VEVENT
BEGIN:VEVENT
DTSTART;VALUE=DATE:20200404
DTEND;VALUE=DATE:20200405
DTSTAMP:20260420T112418
CREATED:20200127T205512Z
LAST-MODIFIED:20200223T212735Z
UID:12586-1585958400-1586044799@adderburygolf.org
SUMMARY:Credik Classic
DESCRIPTION:Meet around 9:45am \nTea/Coffee & Bacon rolls provided \nFirst tee time at 11am \nTwo-course meal and presentation afterwards
URL:https://adderburygolf.org/event/credik-classic-2/
LOCATION:Farthingstone Golf Club\, Everdon Road\, Farthingstone nr Towcester\, Northampton\, NN12 8HA
CATEGORIES:Golf Fixtures
ATTACH;FMTTYPE=image/jpeg:https://adderburygolf.org/wp-content/uploads/2020/01/farthingstone.jpg
END:VEVENT
BEGIN:VEVENT
DTSTART;TZID=Europe/London:20200322T190000
DTEND;TZID=Europe/London:20200322T203000
DTSTAMP:20260420T112418
CREATED:20200223T205038Z
LAST-MODIFIED:20200223T205133Z
UID:12667-1584903600-1584909000@adderburygolf.org
SUMMARY:Committee Meeting
DESCRIPTION:
URL:https://adderburygolf.org/event/committee-meeting-4/
LOCATION:Coach & Horses\, The Green\, Adderbury\, Oxfordshire\, OX17 3ND\, United Kingdom
CATEGORIES:Committee Meetings
ATTACH;FMTTYPE=image/jpeg:https://adderburygolf.org/wp-content/uploads/2014/08/Coachandhouses_2014-2.jpg
END:VEVENT
BEGIN:VEVENT
DTSTART;TZID=Europe/London:20200307T094500
DTEND;TZID=Europe/London:20200307T230000
DTSTAMP:20260420T112418
CREATED:20200127T204326Z
LAST-MODIFIED:20200217T212322Z
UID:12582-1583574300-1583622000@adderburygolf.org
SUMMARY:Coach & Horses Shield
DESCRIPTION:The new golf season is nearly upon us and the first AGS fixture of 2020 is at the wonderful Frilford Heath Golf Club playing for the Coach & Horses Shield. \nThe plan is to meet at 9.45 am for full English breakfast\, 18 holes Stableford competition on the Blue Course. \nFrilford’s most recent addition\, the Blue course\, was opened in 1994 to great acclaim. Oxfordshire architect Simon Gidman\, whose training in the long-established firm of Hawtree makes him a design descendent of JH Taylor\, Frilford’s first architect\, took 169 acres of adjoining farmland and sculpted a course every bit the equal of the older tracks. \nThe new land had fewer natural features than that occupied by the Red and Green\, but it still had the precious sandy soil that makes Frilford what Bernard Darwin called ‘a wonderful oasis in the sea of mud’. Gidman used this sandy soil to build sweeping features that give the course a more modern feel than Frilford’s others\, with hollows\, swales and depressions adding to the interest. \nThe layout explores every feature of the site and the par fives and par threes\, in particular\, all face different directions and set different tests. There are birdies to be had\, even though\, at 6\,728 yards\, the course is a considerable challenge. Equally\, there are two par fives – and the 600-yard monster that is the seventeenth hole is prime among them – that\, without pinpoint accuracy on a drive and second shot\, a par will be almost impossible. \nThe Blue’s greens are more severely undulating than those of the Red or Green\, and thus put a premium on putting. The bunkering too is bold and challenging. A different course it may be\, but no-one who plays the Blue at Frilford will feel hard done by. \nAfter leaving Frilford the plan is to meet back at the Coach & Horses for a few drinks and the draw for this seasons doubles pairings. \nFirst tee time at 11 am.  Cost £45 for members and £55 for guest should spaces be available. \n  \n 
URL:https://adderburygolf.org/event/coach-horses-shield-5/
LOCATION:Frilford Heath Golf Club\, Abingdon\, Oxfordshire\, OX13 5NW
CATEGORIES:Golf Fixtures
ATTACH;FMTTYPE=image/jpeg:https://adderburygolf.org/wp-content/uploads/2020/01/Frilford-Heath.jpg
END:VEVENT
BEGIN:VEVENT
DTSTART;VALUE=DATE:20190928
DTEND;VALUE=DATE:20190929
DTSTAMP:20260420T112418
CREATED:20190205T121607Z
LAST-MODIFIED:20190205T121607Z
UID:12561-1569628800-1569715199@adderburygolf.org
SUMMARY:Rugby Golf Club - Sponsor TBC
DESCRIPTION:
URL:https://adderburygolf.org/event/rugby-golf-club-sponsor-tbc/
LOCATION:Rugby Golf Club\, Clifton Road\, Rugby\, Warwickshire\, CV21 3RD\, United Kingdom
CATEGORIES:Golf Fixtures
ATTACH;FMTTYPE=image/jpeg:https://adderburygolf.org/wp-content/uploads/2019/02/rugby-golf-club.jpg
END:VEVENT
BEGIN:VEVENT
DTSTART;VALUE=DATE:20190831
DTEND;VALUE=DATE:20190901
DTSTAMP:20260420T112418
CREATED:20190204T182309Z
LAST-MODIFIED:20190204T182309Z
UID:12557-1567209600-1567295999@adderburygolf.org
SUMMARY:Memorial Cup
DESCRIPTION:
URL:https://adderburygolf.org/event/memorial-cup-5/
LOCATION:Leamington & Country Golf Club\, Golf Lane\, Whitnash\, Leamington Spa\, Warwickshire\, CV31 2QA
CATEGORIES:Golf Fixtures
ATTACH;FMTTYPE=image/jpeg:https://adderburygolf.org/wp-content/uploads/2019/02/leamingtoncounty.jpg
END:VEVENT
BEGIN:VEVENT
DTSTART;VALUE=DATE:20190719
DTEND;VALUE=DATE:20190720
DTSTAMP:20260420T112418
CREATED:20190128T182453Z
LAST-MODIFIED:20190128T182630Z
UID:12542-1563494400-1563580799@adderburygolf.org
SUMMARY:Members Day
DESCRIPTION:Entry and payment by Sunday 7th July
URL:https://adderburygolf.org/event/members-day-5/
LOCATION:Burford Golf Club\, Burford\, Oxfordshire\, OX18 4JG\, United Kingdom
CATEGORIES:Golf Fixtures
ATTACH;FMTTYPE=image/jpeg:https://adderburygolf.org/wp-content/uploads/2015/02/burford-golf-club.jpg
END:VEVENT
END:VCALENDAR