BEGIN:VCALENDAR
VERSION:2.0
PRODID:-//Adderbury Golf Society - ECPv6.15.20//NONSGML v1.0//EN
CALSCALE:GREGORIAN
METHOD:PUBLISH
X-WR-CALNAME:Adderbury Golf Society
X-ORIGINAL-URL:https://adderburygolf.org
X-WR-CALDESC:Events for Adderbury Golf Society
REFRESH-INTERVAL;VALUE=DURATION:PT1H
X-Robots-Tag:noindex
X-PUBLISHED-TTL:PT1H
BEGIN:VTIMEZONE
TZID:Europe/London
BEGIN:DAYLIGHT
TZOFFSETFROM:+0000
TZOFFSETTO:+0100
TZNAME:BST
DTSTART:20140330T010000
END:DAYLIGHT
BEGIN:STANDARD
TZOFFSETFROM:+0100
TZOFFSETTO:+0000
TZNAME:GMT
DTSTART:20141026T010000
END:STANDARD
BEGIN:DAYLIGHT
TZOFFSETFROM:+0000
TZOFFSETTO:+0100
TZNAME:BST
DTSTART:20150329T010000
END:DAYLIGHT
BEGIN:STANDARD
TZOFFSETFROM:+0100
TZOFFSETTO:+0000
TZNAME:GMT
DTSTART:20151025T010000
END:STANDARD
BEGIN:DAYLIGHT
TZOFFSETFROM:+0000
TZOFFSETTO:+0100
TZNAME:BST
DTSTART:20160327T010000
END:DAYLIGHT
BEGIN:STANDARD
TZOFFSETFROM:+0100
TZOFFSETTO:+0000
TZNAME:GMT
DTSTART:20161030T010000
END:STANDARD
END:VTIMEZONE
BEGIN:VEVENT
DTSTART;VALUE=DATE:20150808
DTEND;VALUE=DATE:20150809
DTSTAMP:20260420T175430
CREATED:20150215T151607Z
LAST-MODIFIED:20150727T202658Z
UID:11057-1438992000-1439078399@adderburygolf.org
SUMMARY:G & L Cup
DESCRIPTION:Plan for the day is to meet up at the golf club around 9am for tea/coffee and bacon rolls. 1st tee off time is at 10am. As usual\, the competition for the day is 18 holes Stapleford followed by ham\, egg and chips. Entry (& payment) must be confirmed to Wally by Sunday 26th July 2015.
URL:https://adderburygolf.org/event/g-l-cup/
LOCATION:Three Locks Golf Club\, Great Brickhill\, Milton Keynes\, Buckinghamshire\, MK17 9BH\, United Kingdom
CATEGORIES:Golf Fixtures
ATTACH;FMTTYPE=image/jpeg:https://adderburygolf.org/wp-content/uploads/2015/02/three-locks-golf-club-clubhouse.jpg
END:VEVENT
BEGIN:VEVENT
DTSTART;VALUE=DATE:20150717
DTEND;VALUE=DATE:20150718
DTSTAMP:20260420T175430
CREATED:20150215T150659Z
LAST-MODIFIED:20150625T165600Z
UID:11054-1437091200-1437177599@adderburygolf.org
SUMMARY:Members Day
DESCRIPTION:[two_third last=”no” class=”” id=””]The 2015 AGS Members Day will be played at the beautiful Burford Golf Club. \nThe plan for the day is to meet at the golf club at 8.15am where there will be coffee/tea and bacon rolls on arrival.  (For those interested\, there will be a minibus leaving the Coach and Horses in Adderbury at 7am .  The cost for  the minibus is  £10 per person and there are plans to stop in Burford for a beer or two). \nThe golf will take the usual Members Day format of a 9 hole team event in the morning followed by a light lunch before the main event – an 18 hole stableford individual competition for the Members Day Trophy. \nEntry (& payment) must be confirmed to Wally by Sunday 29th June 2015.[/two_third]\n[one_third last=”yes” class=”” id=””][/one_third]
URL:https://adderburygolf.org/event/members-day/
LOCATION:Burford Golf Club\, Burford\, Oxfordshire\, OX18 4JG\, United Kingdom
CATEGORIES:Golf Fixtures
END:VEVENT
BEGIN:VEVENT
DTSTART;VALUE=DATE:20150613
DTEND;VALUE=DATE:20150614
DTSTAMP:20260420T175430
CREATED:20150215T150017Z
LAST-MODIFIED:20150309T204839Z
UID:11051-1434153600-1434239999@adderburygolf.org
SUMMARY:Credit Classic
DESCRIPTION:[two_third last=”no” class=”” id=””]Entry (& payment) must be confirmed to Wally by Sunday 31st May 2015.[/two_third]\n[one_third last=”yes” class=”” id=””][/one_third]
URL:https://adderburygolf.org/event/credit-classic/
LOCATION:West Midlands Golf Club\, Marsh House Farm Lane\, Solihull\, Birmingham\, West Midlands\, B92 0LB\, United Kingdom
CATEGORIES:Golf Fixtures
END:VEVENT
BEGIN:VEVENT
DTSTART;VALUE=DATE:20150502
DTEND;VALUE=DATE:20150503
DTSTAMP:20260420T175430
CREATED:20150215T140744Z
LAST-MODIFIED:20150215T161813Z
UID:11045-1430524800-1430611199@adderburygolf.org
SUMMARY:Gordon Wright Masters - weekend away
DESCRIPTION:[two_third last=”no” class=”” id=””]\nEach year the Adderbury Golf Society has a trip away for a few days around the first weekend in May. Last year the society visited South Wales and the wonderful Celtic Manor Resort. This year sees the society visit the nearby county of Somerset. \nThis is the 2nd competitive fixture of our weekend away and sees the society visit the 33rd ranked course in the Golf Monthly’s Top 100 Golf Courses UK and Ireland 2015/16.  The Championship course really does look like a real treat for those luckily enough to get away for the weekend\, just check out the clubs website link below and wet your appetite for a gem of a venue. \nAgenda \n\nTravel to the golf club from hotel in Weston-super-Mare\nFirst tee of time at 2pm – 18 holes of golf on the Championship course.\n2 course dinner\nTravel back to hotel in Weston-super-Mare\nA beer or two at the hotel.\nBed and breakfast and travel home on Sunday morning.\n\nMick Hughes is our defending Champion for this trophy.  See last years Coach & Horses Shield results in full here \nEntry & payment must be confirmed to Wally by Sunday 8th March.\n[/two_third]\n[one_third last=”yes” class=”” id=””][/one_third]
URL:https://adderburygolf.org/event/gordon-wright-masters/
LOCATION:Burnham and Berrow Golf Club\, St Christophers Way\, Burnham-on-Sea\, Somerset\, TA8 2PE\, United Kingdom
CATEGORIES:Golf Fixtures,weekend Away
END:VEVENT
BEGIN:VEVENT
DTSTART;VALUE=DATE:20150501
DTEND;VALUE=DATE:20150502
DTSTAMP:20260420T175430
CREATED:20150215T115945Z
LAST-MODIFIED:20150405T184911Z
UID:11040-1430438400-1430524799@adderburygolf.org
SUMMARY:Penbruce Trophy - weekend away
DESCRIPTION:[two_third last=”no” class=”” id=””] \nEach year the Adderbury Golf Society has a trip away for a few days around the first weekend in May. Last year the society visited South Wales and the wonderful Celtic Manor Resort. This year sees the society visit the nearby county of Somerset. \nThere are plans for some members to meet up a day earlier and play a course on Thursday 30t April\, but our first competitive get together will be for the Penbruce Trophy at Long Ashton Golf Club near Bristol on Friday 1st May. \nAgenda: \n\nBreakfast at Long Ashton Golf Club\, 8:30am\nFirst tee time at 10:30am – 18 holes of golf\nTravel down to Weston-super-Mare\n3 course dinner\, bed and breakfast at Aosfa hotel\nOn Saturday 2nd May\, travel to Burham & Berrow Golf Club to play the Gordon Wright Masters\n\nMark Hardy is our defending Champion for this trophy.  See last years Penbruce Trophy results in full here \nEntry & payment must be confirmed to Wally by Sunday 8th March. \n[/two_third]\n[one_third last=”yes” class=”” id=””]\n[/one_third]
URL:https://adderburygolf.org/event/penbruce-trophy/
LOCATION:Long Ashton Golf Club\, Clevedon Road\, Bristol\, Somerset\, BS41 9DW\, United Kingdom
CATEGORIES:Golf Fixtures,weekend Away
END:VEVENT
BEGIN:VEVENT
DTSTART;VALUE=DATE:20150418
DTEND;VALUE=DATE:20150419
DTSTAMP:20260420T175430
CREATED:20150129T200250Z
LAST-MODIFIED:20150407T083925Z
UID:10986-1429315200-1429401599@adderburygolf.org
SUMMARY:Hardy Hughes
DESCRIPTION:[two_third last=”no” class=”” id=””] \nThe second fixture of the season is at the glamorously named Hollywood Golf Club in Birmingham. Formerly known as Gay Hill Golf Club\, the club won greenkeeper of the year in 2012. \nBe at the golf club for 11:30am for tea/coffee and brunch.  1st tee time is at 12:30pm. \nThe format for the day will be Stableford\, where there will be prizes for 1st and 2nd place.  There are also prizes for the longest drive and nearest the pin. \nThere is no food after the golf\, but if enough people are interested we’re planning on giving the mini bus a run out and popping into Stratford upon Avon for a bite to eat and some beers 🙂 \nEntry (& payment of £40 – including sweep) must be confirmed to Wally by Sunday 5th April 2015. \nPayment can also be made via bank transfer: \nAdderbury Golf Society\n30-92-63\n02240395 \nKevin Hardy is our defending Champion for this trophy.  See last years Coach & Horses Shield results in full here \n[/two_third]\n[one_third last=”yes” class=”” id=””][/one_third]
URL:https://adderburygolf.org/event/hardy-hughes/
LOCATION:Hollywood Golf Club\, Hollywood Lane\, Birmingham\, West Midlands\, B47 5PP\, United Kingdom
CATEGORIES:Golf Fixtures
END:VEVENT
BEGIN:VEVENT
DTSTART;TZID=Europe/London:20150407T183000
DTEND;TZID=Europe/London:20150407T193000
DTSTAMP:20260420T175430
CREATED:20150309T203204Z
LAST-MODIFIED:20150309T203204Z
UID:11085-1428431400-1428435000@adderburygolf.org
SUMMARY:Committee Meeting
DESCRIPTION:
URL:https://adderburygolf.org/event/committee-meeting-2/
LOCATION:Coach & Horses\, The Green\, Adderbury\, Oxfordshire\, OX17 3ND\, United Kingdom
CATEGORIES:Committee Meetings
END:VEVENT
BEGIN:VEVENT
DTSTART;TZID=Europe/London:20150321T110000
DTEND;TZID=Europe/London:20150321T110000
DTSTAMP:20260420T175430
CREATED:20150129T131302Z
LAST-MODIFIED:20150309T202839Z
UID:10983-1426935600-1426935600@adderburygolf.org
SUMMARY:Coach & Horses Shield
DESCRIPTION:[two_third last=”no” class=”” id=””] \nThe first fixture for the 2015 season sees the society visit the historic Stratford Golf Club – now in its 120th year!  Stratford on Avon Golf Club most notable member was Samuel Ryder who opened the present course in 1928.  Set in 190 acres this par 72 course with its tree lined fairways\, fast greens and excellent drainage makes it a great venue for an early spring visit. \nMark Hardy is our defending Champion for this trophy.  See last years Coach & Horses Shield results in full here \nAs per usual\, bot worth mentioning particular for our new members\, entry & payment must be confirmed to Martyn (Wally) two weeks before the fixture.  In this case the deadline is Sunday 8th March 2015.   The cost for the fixture is £35.  The fee for entry/payment after this date is £40. \nRemember that guests are welcomes for all fixtures with the exception of members day.  The cost for guests attending this fixture is £40. \nThe format for the day will be Stableford\, where there will be prizes for 1st and 2nd place.  There are also prizes for the longest drive and nearest the pin. \nArrival at 9:45am for a full English breakfast\, first tee is at 11am.  Following the golf\, there will be a 3 course evening meal and 2014 prize giving ceremony at the Coach & Horses\, Adderbury starting at 7:30pm.  There will also be a DJ/karaoke to help with celebrations!  (There is a £10 charge for the dinner). \n[/two_third]\n[one_third last=”yes” class=”” id=””] \nCountdown to event: \n[COUNTDOWN id=”11080″]\n[/one_third]
URL:https://adderburygolf.org/event/coach-horses-shield/
LOCATION:Stratford Golf Club\, Tiddington Road\, Stratford-upon-Avon\, Warwickshire\, CV37 7BA\, United Kingdom
CATEGORIES:Golf Fixtures
END:VEVENT
BEGIN:VEVENT
DTSTART;TZID=Europe/London:20150309T200000
DTEND;TZID=Europe/London:20150309T220000
DTSTAMP:20260420T175430
CREATED:20150215T154557Z
LAST-MODIFIED:20150215T154557Z
UID:11072-1425931200-1425938400@adderburygolf.org
SUMMARY:Committee Meeting
DESCRIPTION:[two_third last=”no” class=”” id=””]Committee Meeting at the Coach and Horses\, Adderbury.  Agenda to be confirmed.[/two_third]\n[one_third last=”yes” class=”” id=””][/one_third]
URL:https://adderburygolf.org/event/committee-meeting/
LOCATION:Coach & Horses\, The Green\, Adderbury\, Oxfordshire\, OX17 3ND\, United Kingdom
CATEGORIES:Committee Meetings
END:VEVENT
END:VCALENDAR